
BEGIN:VCALENDAR
VERSION:2.0
PRODID:-//MarkedsPartner AS//Umbraco CMS//NO
TIMEZONE-ID:Europe/Oslo
X-WR-TIMEZONE:Europe/Oslo


BEGIN:VEVENT
UID:d3e0df2f6a3c49f2a992c1392fd84f54
URL:https://umbraco.naeringsforeningen.no/moeter/arkiv/tv-sending-191120/
ORGANIZER;CN=Ola Normann:MAILTO:ola.normann@markedspartner.no
DTSTAMP:20201119T080000Z
DTSTART:20201119T080000Z
DTEND:20201119T083000Z
LAST-MODIFIED:20221031T115347Z
SUMMARY:TV-sending: Nytt prosjekt skal styrke Energihovedstaden
DESCRIPTION:Et nytt prosjekt skal bidra til å forsterke regionens posisjon som energihovedstad og i denne sendingen får du detaljene. Avtalen mellom Stavanger kommune og Næringsforeningen ble vedtatt i formannskapet 5. november, og nå inviteres de andre kommunene med i prosjektet. Samtidig som regionen fortsatt skal ha en ledende rolle i teknologi- og videreutviklingen av olje- og gassnæringen, ønsker vi å lede an i utviklingen av ny teknologi og nye grønne arbeidsplasser. I studio: Stavanger-ordfører Kari Nessa Nordtun, Sola-ordfører Tom Henning Slethei, Norsea-sjef John E. Stangeland, prosjektleder Ulf Rosenberg og Næringsforeningens Harald Minge.
X-ALT-DESC:Et nytt prosjekt skal bidra til &#229; forsterke regionens posisjon som energihovedstad og i denne sendingen f&#229;r du detaljene. Avtalen mellom Stavanger kommune og N&#230;ringsforeningen ble vedtatt i formannskapet 5. november, og n&#229; inviteres de andre kommunene med i prosjektet. Samtidig som regionen fortsatt skal ha en ledende rolle i teknologi- og videreutviklingen av olje- og gassn&#230;ringen, &#248;nsker vi &#229; lede an i utviklingen av ny teknologi og nye gr&#248;nne arbeidsplasser. I studio: Stavanger-ordf&#248;rer Kari Nessa Nordtun, Sola-ordf&#248;rer Tom Henning Slethei, Norsea-sjef John E. Stangeland, prosjektleder Ulf Rosenberg og N&#230;ringsforeningens Harald Minge.
LOCATION:Facebook Live
END:VEVENT


END:VCALENDAR



