
BEGIN:VCALENDAR
VERSION:2.0
PRODID:-//MarkedsPartner AS//Umbraco CMS//NO
TIMEZONE-ID:Europe/Oslo
X-WR-TIMEZONE:Europe/Oslo


BEGIN:VEVENT
UID:829c470a240940bbb01ed9f4544dcefc
URL:https://umbraco.naeringsforeningen.no/moeter/arkiv/tv-sending-190521/
ORGANIZER;CN=Ola Normann:MAILTO:ola.normann@markedspartner.no
DTSTAMP:20210519T070000Z
DTSTART:20210519T070000Z
DTEND:20210519T072000Z
LAST-MODIFIED:20221031T121712Z
SUMMARY:Ny rapport om markedet for næringseiendom
DESCRIPTION:Hvordan har koronapandemien påvirket markedet for næringseiendom i distriktet, og hvordan har prisutviklingen vært? Det er et av mange spørsmål leder for næringseiendom i EiendomsMegler 1 SR-Eiendom, Jan Inge Røyland, presenterer fra en rykende fersk markedsundersøkelse i dagens sending. Vi får også besøk av daglig leder i Retail Office Stavanger, Egil Willumsen, et selskap som satser stort på utleie av butikk-, restaurant- og kontorlokaler i Stavanger sentrum.
X-ALT-DESC:Hvordan har koronapandemien p&#229;virket markedet for n&#230;ringseiendom i distriktet, og hvordan har prisutviklingen v&#230;rt? Det er et av mange sp&#248;rsm&#229;l leder for n&#230;ringseiendom i EiendomsMegler 1 SR-Eiendom, Jan Inge R&#248;yland, presenterer fra en rykende fersk markedsunders&#248;kelse i dagens sending. Vi f&#229;r ogs&#229; bes&#248;k av daglig leder i Retail Office Stavanger, Egil Willumsen, et selskap som satser stort p&#229; utleie av butikk-, restaurant- og kontorlokaler i Stavanger sentrum.
LOCATION:Facebook Live
END:VEVENT


END:VCALENDAR



