
BEGIN:VCALENDAR
VERSION:2.0
PRODID:-//MarkedsPartner AS//Umbraco CMS//NO
TIMEZONE-ID:Europe/Oslo
X-WR-TIMEZONE:Europe/Oslo


BEGIN:VEVENT
UID:efaac82e3fd145b992dd3b23fd8289fe
URL:https://umbraco.naeringsforeningen.no/moeter/arkiv/tv-sending-190421/
ORGANIZER;CN=Ola Normann:MAILTO:ola.normann@markedspartner.no
DTSTAMP:20210419T070000Z
DTSTART:20210419T070000Z
DTEND:20210419T072000Z
LAST-MODIFIED:20221031T121201Z
SUMMARY:Er opprøret i kulturbransjen stagget?
DESCRIPTION:Kulturbransjen ble lovet en solid kompensasjonsordning for å holde hjulene i gang, men så fikk de plutselig avslag på søknadene sine om stimuleringsmidler. Det førte til opprørsstemning hos scenearbeidere, bookingbyråer og kulturinstitusjoner. Rett før helgen doblet imidlertid kulturminister Abid Raja støtten, men er det nok? I studio kommer konserthussjef Per-Harald Nilsson og Jahn Zahl, journalist og kommentator i Aftenbladet.
X-ALT-DESC:Kulturbransjen ble lovet en solid kompensasjonsordning for &#229; holde hjulene i gang, men s&#229; fikk de plutselig avslag p&#229; s&#248;knadene sine om stimuleringsmidler. Det f&#248;rte til oppr&#248;rsstemning hos scenearbeidere, bookingbyr&#229;er og kulturinstitusjoner. Rett f&#248;r helgen doblet imidlertid kulturminister Abid Raja st&#248;tten, men er det nok? I studio kommer konserthussjef Per-Harald Nilsson og Jahn Zahl, journalist og kommentator i Aftenbladet.
LOCATION:Facebook Live
END:VEVENT


END:VCALENDAR



