
BEGIN:VCALENDAR
VERSION:2.0
PRODID:-//MarkedsPartner AS//Umbraco CMS//NO
TIMEZONE-ID:Europe/Oslo
X-WR-TIMEZONE:Europe/Oslo


BEGIN:VEVENT
UID:f56cbb68ab0849b798a2e5950c066234
URL:https://umbraco.naeringsforeningen.no/moeter/arkiv/tv-sending-190122/
ORGANIZER;CN=Ola Normann:MAILTO:ola.normann@markedspartner.no
DTSTAMP:20220119T080000Z
DTSTART:20220119T080000Z
DTEND:20220119T082000Z
LAST-MODIFIED:20221031T123141Z
SUMMARY:TV: Go´morgen næringslivet
DESCRIPTION:Pandemien har fått betydelige konsekvenser for Universitetet i Stavanger, studentenes liv og leven. I denne sendingen tar vi en prat med rektor Klaus Mohn, som også forteller om UiS-planene framover. Vi får dessuten besøk av Torstein Nielsen, beredskapssjef i Stavanger – som nå opplever økt smitte og beredskapsutfordringer.
X-ALT-DESC:Pandemien har f&#229;tt betydelige konsekvenser for Universitetet i Stavanger, studentenes liv og leven. I denne sendingen tar vi en prat med rektor Klaus Mohn, som ogs&#229; forteller om UiS-planene framover. Vi f&#229;r dessuten bes&#248;k av Torstein Nielsen, beredskapssjef i Stavanger – som n&#229; opplever &#248;kt smitte og beredskapsutfordringer.
LOCATION:Facebook Live/Linkedin Live
END:VEVENT


END:VCALENDAR



