
BEGIN:VCALENDAR
VERSION:2.0
PRODID:-//MarkedsPartner AS//Umbraco CMS//NO
TIMEZONE-ID:Europe/Oslo
X-WR-TIMEZONE:Europe/Oslo


BEGIN:VEVENT
UID:7275ec6c57e94c3baf92f05b22a96ef2
URL:https://umbraco.naeringsforeningen.no/moeter/arkiv/tv-sending-19-mars/
ORGANIZER;CN=Ola Normann:MAILTO:ola.normann@markedspartner.no
DTSTAMP:20200319T080000Z
DTSTART:20200319T080000Z
DTEND:20200319T080000Z
LAST-MODIFIED:20221031T120157Z
SUMMARY:TV: Sending 19. mars
DESCRIPTION:Torsdagens sending blir med temaene transport og varehandel.
X-ALT-DESC:Torsdagens sending blir med temaene transport og varehandel.
LOCATION:
END:VEVENT


END:VCALENDAR



