
BEGIN:VCALENDAR
VERSION:2.0
PRODID:-//MarkedsPartner AS//Umbraco CMS//NO
TIMEZONE-ID:Europe/Oslo
X-WR-TIMEZONE:Europe/Oslo


BEGIN:VEVENT
UID:7332c5abab9c421c906d40fc899b3cb7
URL:https://umbraco.naeringsforeningen.no/moeter/arkiv/tv-sending-19-juni/
ORGANIZER;CN=Ola Normann:MAILTO:ola.normann@markedspartner.no
DTSTAMP:20200619T070000Z
DTSTART:20200619T070000Z
DTEND:20200619T073000Z
LAST-MODIFIED:20221031T121453Z
SUMMARY:TV: Sending 19. juni
DESCRIPTION:Fredagens sending blir den siste før sommerferien og hovedfokus vil være på svindel mot både bedrifter og privatpersoner under koronakrisen. Vi får blant annet besøk av Kyrre Lindager fra Politiet og Thor Christian Haugland fra SR-Bank.
X-ALT-DESC:Fredagens sending blir den siste f&#248;r sommerferien og hovedfokus vil v&#230;re p&#229; svindel mot b&#229;de bedrifter og privatpersoner under koronakrisen. Vi f&#229;r blant annet bes&#248;k av Kyrre Lindager fra Politiet og Thor Christian Haugland fra SR-Bank.
LOCATION:Facebook Live
END:VEVENT


END:VCALENDAR



