
BEGIN:VCALENDAR
VERSION:2.0
PRODID:-//MarkedsPartner AS//Umbraco CMS//NO
TIMEZONE-ID:Europe/Oslo
X-WR-TIMEZONE:Europe/Oslo


BEGIN:VEVENT
UID:e582b8ef07f543d3b8d260aca8a10f7a
URL:https://umbraco.naeringsforeningen.no/moeter/arkiv/tv-sending-181120/
ORGANIZER;CN=Ola Normann:MAILTO:ola.normann@markedspartner.no
DTSTAMP:20201118T120000Z
DTSTART:20201118T120000Z
DTEND:20201118T122000Z
LAST-MODIFIED:20221031T115303Z
SUMMARY:TV-sending: Julehandel i  koronatid
DESCRIPTION:Sentrumsbutikkene forbereder seg på årets julehandel. Den tradisjonelle tenningen av julegranen blir i år digital, og smittevernreglene og hjemmekontor påvirker våre handlemønstre. Hva vil det bety for handelen i adventstiden – som mer enn noen gang er viktig for handelstanden i regionen? Vi får besøk av Asgeir Sand fra Stavanger sentrum og Edle Kathrine Strømland Torkelsen fra Sandnes sentrum.
X-ALT-DESC:Sentrumsbutikkene forbereder seg p&#229; &#229;rets julehandel. Den tradisjonelle tenningen av julegranen blir i &#229;r digital, og smittevernreglene og hjemmekontor p&#229;virker v&#229;re handlem&#248;nstre. Hva vil det bety for handelen i adventstiden – som mer enn noen gang er viktig for handelstanden i regionen? Vi f&#229;r bes&#248;k av Asgeir Sand fra Stavanger sentrum og Edle Kathrine Str&#248;mland Torkelsen fra Sandnes sentrum.
LOCATION:Facebook Live
END:VEVENT


END:VCALENDAR



