
BEGIN:VCALENDAR
VERSION:2.0
PRODID:-//MarkedsPartner AS//Umbraco CMS//NO
TIMEZONE-ID:Europe/Oslo
X-WR-TIMEZONE:Europe/Oslo


BEGIN:VEVENT
UID:504a9a1f87a344d08d3ce61bba6c4f61
URL:https://umbraco.naeringsforeningen.no/moeter/arkiv/tv-sending-180122/
ORGANIZER;CN=Ola Normann:MAILTO:ola.normann@markedspartner.no
DTSTAMP:20220118T080000Z
DTSTART:20220118T080000Z
DTEND:20220118T082000Z
LAST-MODIFIED:20221031T123138Z
SUMMARY:TV: Go´morgen næringslivet
DESCRIPTION:Veronica Simoné Fjeld er vår hovedgjest i tirsdagens sending. Vi får også besøk av senterleder ved AMFI Madla, Anette Øfsti Worum, og Rune Bjerga – alias Knud med D – avleverer en ny rapport fra hjemmekontoret.
X-ALT-DESC:Veronica Simon&#233; Fjeld er v&#229;r hovedgjest i tirsdagens sending. Vi f&#229;r ogs&#229; bes&#248;k av senterleder ved AMFI Madla, Anette &#216;fsti Worum, og Rune Bjerga – alias Knud med D – avleverer en ny rapport fra hjemmekontoret.
LOCATION:Facebook Live/Linkedin Live
END:VEVENT


END:VCALENDAR



