
BEGIN:VCALENDAR
VERSION:2.0
PRODID:-//MarkedsPartner AS//Umbraco CMS//NO
TIMEZONE-ID:Europe/Oslo
X-WR-TIMEZONE:Europe/Oslo


BEGIN:VEVENT
UID:b62e3922730d4f52ae549e122e6aab58
URL:https://umbraco.naeringsforeningen.no/moeter/arkiv/tv-sending-18-mars/
ORGANIZER;CN=Ola Normann:MAILTO:ola.normann@markedspartner.no
DTSTAMP:20200318T080000Z
DTSTART:20200318T080000Z
DTEND:20200318T080000Z
LAST-MODIFIED:20221031T120148Z
SUMMARY:TV: Sending 18. mars
DESCRIPTION:Onsdagens sending vil omhandle temaer som bank, finans og media.
X-ALT-DESC:Onsdagens sending vil omhandle temaer som bank, finans og media.
LOCATION:
END:VEVENT


END:VCALENDAR



