
BEGIN:VCALENDAR
VERSION:2.0
PRODID:-//MarkedsPartner AS//Umbraco CMS//NO
TIMEZONE-ID:Europe/Oslo
X-WR-TIMEZONE:Europe/Oslo


BEGIN:VEVENT
UID:7f40a1c64c604c7aac8b8829410e23ab
URL:https://umbraco.naeringsforeningen.no/moeter/arkiv/tv-sending-18-mai/
ORGANIZER;CN=Ola Normann:MAILTO:ola.normann@markedspartner.no
DTSTAMP:20200518T070000Z
DTSTART:20200518T070000Z
DTEND:20200518T073000Z
LAST-MODIFIED:20221031T121037Z
SUMMARY:TV: Sending 18. mai
DESCRIPTION:Hvordan påvirkes Dalane-regionen av koronakrisen og oljeprisfallet? Vi får besøk av Eigersund-ordfører Odd Stangeland og Aker Solution-direktør Jan Ertesvåg.
X-ALT-DESC:Hvordan p&#229;virkes Dalane-regionen av koronakrisen og oljeprisfallet? Vi f&#229;r bes&#248;k av Eigersund-ordf&#248;rer Odd Stangeland og Aker Solution-direkt&#248;r Jan Ertesv&#229;g.
LOCATION:Facebook Live
END:VEVENT


END:VCALENDAR



