
BEGIN:VCALENDAR
VERSION:2.0
PRODID:-//MarkedsPartner AS//Umbraco CMS//NO
TIMEZONE-ID:Europe/Oslo
X-WR-TIMEZONE:Europe/Oslo


BEGIN:VEVENT
UID:a67299935b764798947f07b71db19361
URL:https://umbraco.naeringsforeningen.no/moeter/arkiv/tv-sending-171221/
ORGANIZER;CN=Ola Normann:MAILTO:ola.normann@markedspartner.no
DTSTAMP:20211217T080000Z
DTSTART:20211217T080000Z
DTEND:20211217T083000Z
LAST-MODIFIED:20221031T123340Z
SUMMARY:Næringsforeningen TV: Helgemagasin
DESCRIPTION:Det blir nok en prisutdeling i dagens sending. Vi avslører på direkten hvem som stikker av med årets kompetansedelingspris. Om halvannet år kan en ny droneutdanning se dagens lys i regionen. Vi har intervjuet initiativtakerne i det privatoffentlige samarbeidet. Lufhansa lanserte årets førjulspresang til næringslivet denne uken gjennom relansering av ny direkterute til Frankfurt, og Harald Minge og Tormod Andreassen står som vanlig klar til å drodle om uka som gikk i denne siste sendingen før jul.
X-ALT-DESC:Det blir nok en prisutdeling i dagens sending. Vi avsl&#248;rer p&#229; direkten hvem som stikker av med &#229;rets kompetansedelingspris. Om halvannet &#229;r kan en ny droneutdanning se dagens lys i regionen. Vi har intervjuet initiativtakerne i det privatoffentlige samarbeidet. Lufhansa lanserte &#229;rets f&#248;rjulspresang til n&#230;ringslivet denne uken gjennom relansering av ny direkterute til Frankfurt, og Harald Minge og Tormod Andreassen st&#229;r som vanlig klar til &#229; drodle om uka som gikk i denne siste sendingen f&#248;r jul.
LOCATION:Facebook Live
END:VEVENT


END:VCALENDAR



