
BEGIN:VCALENDAR
VERSION:2.0
PRODID:-//MarkedsPartner AS//Umbraco CMS//NO
TIMEZONE-ID:Europe/Oslo
X-WR-TIMEZONE:Europe/Oslo


BEGIN:VEVENT
UID:09113b3769e14e77a52ff358bb6387f5
URL:https://umbraco.naeringsforeningen.no/moeter/arkiv/tv-sending-171120/
ORGANIZER;CN=Ola Normann:MAILTO:ola.normann@markedspartner.no
DTSTAMP:20201117T080000Z
DTSTART:20201117T080000Z
DTEND:20201117T082000Z
LAST-MODIFIED:20221031T115255Z
SUMMARY:TV-sending: IT-bransjen har vokst med 100 prosent
DESCRIPTION:IT-bransjen i Stavanger-regionen har vokst med 100 prosent på ti år. Hva skal til for at den skal kunne doble seg igjen? Vi har med oss Toril Nag fra Lyse og Altibox, Heidi Ravndal fra Sopra Steria og Tom Ryen fra Universitetet i Stavanger.
X-ALT-DESC:IT-bransjen i Stavanger-regionen har vokst med 100 prosent p&#229; ti &#229;r. Hva skal til for at den skal kunne doble seg igjen? Vi har med oss Toril Nag fra Lyse og Altibox, Heidi Ravndal fra Sopra Steria og Tom Ryen fra Universitetet i Stavanger.
LOCATION:Facebook Live
END:VEVENT


END:VCALENDAR



