
BEGIN:VCALENDAR
VERSION:2.0
PRODID:-//MarkedsPartner AS//Umbraco CMS//NO
TIMEZONE-ID:Europe/Oslo
X-WR-TIMEZONE:Europe/Oslo


BEGIN:VEVENT
UID:6ccc5c44ceb24e2e904a74c737d62d2e
URL:https://umbraco.naeringsforeningen.no/moeter/arkiv/tv-sending-170122/
ORGANIZER;CN=Ola Normann:MAILTO:ola.normann@markedspartner.no
DTSTAMP:20220117T080000Z
DTSTART:20220117T080000Z
DTEND:20220117T082000Z
LAST-MODIFIED:20221031T123130Z
SUMMARY:TV: Go´morgen næringslivet
DESCRIPTION:Dør- og vindusprodusenten NorDan på Moi omsetter for over tre milliarder og har flere tusen ansatte i en rekke land. Hvordan takler de pandemien? Vi har med oss konsernsjef Tore Rasmussen i vår morgensending. Vi får også besøk av Mikal Tengesdal fra Melkebaren i Sandnes. Programledere er Elianne Strøm Topstad og Ståle Frafjord.
X-ALT-DESC:D&#248;r- og vindusprodusenten NorDan p&#229; Moi omsetter for over tre milliarder og har flere tusen ansatte i en rekke land. Hvordan takler de pandemien? Vi har med oss konsernsjef Tore Rasmussen i v&#229;r morgensending. Vi f&#229;r ogs&#229; bes&#248;k av Mikal Tengesdal fra Melkebaren i Sandnes. Programledere er Elianne Str&#248;m Topstad og St&#229;le Frafjord.
LOCATION:Facebook Live/Linkedin Live
END:VEVENT


END:VCALENDAR



