
BEGIN:VCALENDAR
VERSION:2.0
PRODID:-//MarkedsPartner AS//Umbraco CMS//NO
TIMEZONE-ID:Europe/Oslo
X-WR-TIMEZONE:Europe/Oslo


BEGIN:VEVENT
UID:c0f578783c294ac1804633035de54793
URL:https://umbraco.naeringsforeningen.no/moeter/arkiv/tv-sending-17-mars/
ORGANIZER;CN=Ola Normann:MAILTO:ola.normann@markedspartner.no
DTSTAMP:20200317T080000Z
DTSTART:20200317T080000Z
DTEND:20200317T084000Z
LAST-MODIFIED:20221031T120141Z
SUMMARY:TV: Sending 17. mars
DESCRIPTION:Hver ukedag fremover vil vi ha tv-sendinger klokken 09.00 med relevant og nyttig info til våre medlemsbedrifter.
X-ALT-DESC:Hver ukedag fremover vil vi ha tv-sendinger klokken 09.00 med relevant og nyttig info til v&#229;re medlemsbedrifter.
LOCATION:Web TV
END:VEVENT


END:VCALENDAR



