
BEGIN:VCALENDAR
VERSION:2.0
PRODID:-//MarkedsPartner AS//Umbraco CMS//NO
TIMEZONE-ID:Europe/Oslo
X-WR-TIMEZONE:Europe/Oslo


BEGIN:VEVENT
UID:633cac61e80040808e8000e28ebe61a5
URL:https://umbraco.naeringsforeningen.no/moeter/arkiv/tv-sending-17-april/
ORGANIZER;CN=Ola Normann:MAILTO:ola.normann@markedspartner.no
DTSTAMP:20200417T070000Z
DTSTART:20200417T070000Z
DTEND:20200417T073000Z
LAST-MODIFIED:20221031T120610Z
SUMMARY:TV: Sending 17. april
DESCRIPTION:Vi avslutter denne uken med Sandnes-rådmann Bodil Sivertsen, Stavangers kommunedirektør Per Kristian Vareide og Arnt Olav Klippenberg, journalist og artist.
X-ALT-DESC:Vi avslutter denne uken med Sandnes-r&#229;dmann Bodil Sivertsen, Stavangers kommunedirekt&#248;r Per Kristian Vareide og Arnt Olav Klippenberg, journalist og artist.
LOCATION:Facebook Live
END:VEVENT


END:VCALENDAR



