
BEGIN:VCALENDAR
VERSION:2.0
PRODID:-//MarkedsPartner AS//Umbraco CMS//NO
TIMEZONE-ID:Europe/Oslo
X-WR-TIMEZONE:Europe/Oslo


BEGIN:VEVENT
UID:8a40dd7c4afb40c2bd07453fac64430d
URL:https://umbraco.naeringsforeningen.no/moeter/arkiv/tv-sending-161120/
ORGANIZER;CN=Ola Normann:MAILTO:ola.normann@markedspartner.no
DTSTAMP:20201116T080000Z
DTSTART:20201116T080000Z
DTEND:20201116T082000Z
LAST-MODIFIED:20221031T115249Z
SUMMARY:TV-sending: Smittevernreglene strammes til 
DESCRIPTION:Smittevernreglene strammes til ytterligere. Hva betyr det for de som lever av å samle folk? Vi snakker med Knut Bergesen fra Harry Pepper, Hans Havik fra Aktiv Treningssenter og Anne Woie fra Stavanger kommune.
X-ALT-DESC:Smittevernreglene strammes til ytterligere. Hva betyr det for de som lever av &#229; samle folk? Vi snakker med Knut Bergesen fra Harry Pepper, Hans Havik fra Aktiv Treningssenter og Anne Woie fra Stavanger kommune.
LOCATION:Facebook Live
END:VEVENT


END:VCALENDAR



