
BEGIN:VCALENDAR
VERSION:2.0
PRODID:-//MarkedsPartner AS//Umbraco CMS//NO
TIMEZONE-ID:Europe/Oslo
X-WR-TIMEZONE:Europe/Oslo


BEGIN:VEVENT
UID:ba235f3f099d4f4ca0f65f07b39647a9
URL:https://umbraco.naeringsforeningen.no/moeter/arkiv/tv-sending-160421/
ORGANIZER;CN=Ola Normann:MAILTO:ola.normann@markedspartner.no
DTSTAMP:20210416T070000Z
DTSTART:20210416T070000Z
DTEND:20210416T072000Z
LAST-MODIFIED:20221031T121143Z
SUMMARY:Nordic Unmanned flyr på børsen
DESCRIPTION:Nedtur i oljå gjorde at fem kamerater startet droneselskapet Nordic Unmanned. I løpet av fire år har Sandnes-selskapet vokst fra fire til 55 ansatte. Veksten fortsetter og nå er selskapet børsnotert. Det er fredag, vi skal snakke om nye muligheter og Harald Minge og Tormod Andreassen får besøk av Knut Roar Wiig.
X-ALT-DESC:Nedtur i olj&#229; gjorde at fem kamerater startet droneselskapet Nordic Unmanned. I l&#248;pet av fire &#229;r har Sandnes-selskapet vokst fra fire til 55 ansatte. Veksten fortsetter og n&#229; er selskapet b&#248;rsnotert. Det er fredag, vi skal snakke om nye muligheter og Harald Minge og Tormod Andreassen f&#229;r bes&#248;k av Knut Roar Wiig.
LOCATION:Facebook Live
END:VEVENT


END:VCALENDAR



