
BEGIN:VCALENDAR
VERSION:2.0
PRODID:-//MarkedsPartner AS//Umbraco CMS//NO
TIMEZONE-ID:Europe/Oslo
X-WR-TIMEZONE:Europe/Oslo


BEGIN:VEVENT
UID:46d693a5bd344143b71c3fdf87b21dd1
URL:https://umbraco.naeringsforeningen.no/moeter/arkiv/tv-sending-16-juni/
ORGANIZER;CN=Ola Normann:MAILTO:ola.normann@markedspartner.no
DTSTAMP:20200616T070000Z
DTSTART:20200616T070000Z
DTEND:20200616T073000Z
LAST-MODIFIED:20221031T121408Z
SUMMARY:TV: Sending 16. juni
DESCRIPTION:Ketil Barkved i New Kaupang kartlegger hvor man kan finne lokasjoner til kraftkrevende, moderne industri i regionen, som kan gi mange nye arbeidsplasser.
X-ALT-DESC:Ketil Barkved i New Kaupang kartlegger hvor man kan finne lokasjoner til kraftkrevende, moderne industri i regionen, som kan gi mange nye arbeidsplasser.
LOCATION:Facebook Live
END:VEVENT


END:VCALENDAR



