
BEGIN:VCALENDAR
VERSION:2.0
PRODID:-//MarkedsPartner AS//Umbraco CMS//NO
TIMEZONE-ID:Europe/Oslo
X-WR-TIMEZONE:Europe/Oslo


BEGIN:VEVENT
UID:4d3dcb91cde04b2595202a35ac8068c8
URL:https://umbraco.naeringsforeningen.no/moeter/arkiv/tv-sending-16-april/
ORGANIZER;CN=Ola Normann:MAILTO:ola.normann@markedspartner.no
DTSTAMP:20200416T070000Z
DTSTART:20200416T070000Z
DTEND:20200416T073000Z
LAST-MODIFIED:20221031T120550Z
SUMMARY:TV: Sending 16. april
DESCRIPTION:Torsdag får vi besøk av gjestene Knut Myklestad, Alfred Ydstebø og Elisabeth Saupstad.
X-ALT-DESC:Torsdag f&#229;r vi bes&#248;k av gjestene Knut Myklestad, Alfred Ydsteb&#248; og Elisabeth Saupstad.
LOCATION:Facebook Live
END:VEVENT


END:VCALENDAR



