
BEGIN:VCALENDAR
VERSION:2.0
PRODID:-//MarkedsPartner AS//Umbraco CMS//NO
TIMEZONE-ID:Europe/Oslo
X-WR-TIMEZONE:Europe/Oslo


BEGIN:VEVENT
UID:376b69608f624cfcb0a81dd346d07cab
URL:https://umbraco.naeringsforeningen.no/moeter/arkiv/tv-sending-150621/
ORGANIZER;CN=Ola Normann:MAILTO:ola.normann@markedspartner.no
DTSTAMP:20210615T070000Z
DTSTART:20210615T070000Z
DTEND:20210615T072000Z
LAST-MODIFIED:20221031T122109Z
SUMMARY:Slik blir nye Laerdal
DESCRIPTION:Sammen med Snøhetta har Laerdal Medical utviklet et konsept for full rehabilitering av selskapets hovedkontor i Tanke Svilands gate. I dagens sending presenterer vi planene og tankene bak. Vi får besøk av Tore Lærdal, Ingrid Lærdal og Jenny B. Osuldsen fra Snøhetta.
X-ALT-DESC:Sammen med Sn&#248;hetta har Laerdal Medical utviklet et konsept for full rehabilitering av selskapets hovedkontor i Tanke Svilands gate. I dagens sending presenterer vi planene og tankene bak. Vi f&#229;r bes&#248;k av Tore L&#230;rdal, Ingrid L&#230;rdal og Jenny B. Osuldsen fra Sn&#248;hetta.
LOCATION:Facebook Live
END:VEVENT


END:VCALENDAR



