
BEGIN:VCALENDAR
VERSION:2.0
PRODID:-//MarkedsPartner AS//Umbraco CMS//NO
TIMEZONE-ID:Europe/Oslo
X-WR-TIMEZONE:Europe/Oslo


BEGIN:VEVENT
UID:dab6af3e72754cc1840e16694c0753a7
URL:https://umbraco.naeringsforeningen.no/moeter/arkiv/tv-sending-150421/
ORGANIZER;CN=Ola Normann:MAILTO:ola.normann@markedspartner.no
DTSTAMP:20210415T070000Z
DTSTART:20210415T070000Z
DTEND:20210415T072000Z
LAST-MODIFIED:20221031T121135Z
SUMMARY:Dette blir ONS-temaet i 2022
DESCRIPTION:Få med deg dagens sending når ONS lanserer sitt nye hovedtema som skal sette dagsorden frem mot ONS 2022. Med i sendingen er Leif Johan Sevland, administrerende direktør i ONS, Hilde Øvrebekk, kommentator i Stavanger Aftenblad og Anniken Hauglie, administrerende direktør for Norsk olje og gass.
X-ALT-DESC:F&#229; med deg dagens sending n&#229;r ONS lanserer sitt nye hovedtema som skal sette dagsorden frem mot ONS 2022. Med i sendingen er Leif Johan Sevland, administrerende direkt&#248;r i ONS, Hilde &#216;vrebekk, kommentator i Stavanger Aftenblad og Anniken Hauglie, administrerende direkt&#248;r for Norsk olje og gass.
LOCATION:Facebook Live
END:VEVENT


END:VCALENDAR



