
BEGIN:VCALENDAR
VERSION:2.0
PRODID:-//MarkedsPartner AS//Umbraco CMS//NO
TIMEZONE-ID:Europe/Oslo
X-WR-TIMEZONE:Europe/Oslo


BEGIN:VEVENT
UID:3ffc6728b1024947ab94b95c0db696cc
URL:https://umbraco.naeringsforeningen.no/moeter/arkiv/tv-sending-15-mai/
ORGANIZER;CN=Ola Normann:MAILTO:ola.normann@markedspartner.no
DTSTAMP:20200515T070000Z
DTSTART:20200515T070000Z
DTEND:20200515T073000Z
LAST-MODIFIED:20221031T121011Z
SUMMARY:TV: Sending 15. mai
DESCRIPTION:Stadig nye utsettelser av Rogfast-prosjektet gjør at flere politikere har fått nok og vil ha fortgang. I studio kommer Roy Steffensen fra Frp og Øystein Langholm Hansen fra Ap.
X-ALT-DESC:Stadig nye utsettelser av Rogfast-prosjektet gj&#248;r at flere politikere har f&#229;tt nok og vil ha fortgang. I studio kommer Roy Steffensen fra Frp og &#216;ystein Langholm Hansen fra Ap.
LOCATION:Facebook Live
END:VEVENT


END:VCALENDAR



