
BEGIN:VCALENDAR
VERSION:2.0
PRODID:-//MarkedsPartner AS//Umbraco CMS//NO
TIMEZONE-ID:Europe/Oslo
X-WR-TIMEZONE:Europe/Oslo


BEGIN:VEVENT
UID:cdfd969cee164905aa02decbdeabdedb
URL:https://umbraco.naeringsforeningen.no/moeter/arkiv/tv-sending-15-april/
ORGANIZER;CN=Ola Normann:MAILTO:ola.normann@markedspartner.no
DTSTAMP:20200415T070000Z
DTSTART:20200415T070000Z
DTEND:20200415T073000Z
LAST-MODIFIED:20221031T120500Z
SUMMARY:TV: Sending 15. april
DESCRIPTION:Onsdag får vi besøk av Bjarne Berntsen, Fred Sherling og Tore Medhus.
X-ALT-DESC:Onsdag f&#229;r vi bes&#248;k av Bjarne Berntsen, Fred Sherling og Tore Medhus.
LOCATION:Facebook Live
END:VEVENT


END:VCALENDAR



