
BEGIN:VCALENDAR
VERSION:2.0
PRODID:-//MarkedsPartner AS//Umbraco CMS//NO
TIMEZONE-ID:Europe/Oslo
X-WR-TIMEZONE:Europe/Oslo


BEGIN:VEVENT
UID:d3b05ae6e09d4932877e47d644500f61
URL:https://umbraco.naeringsforeningen.no/moeter/arkiv/tv-sending-140621/
ORGANIZER;CN=Ola Normann:MAILTO:ola.normann@markedspartner.no
DTSTAMP:20210614T070000Z
DTSTART:20210614T070000Z
DTEND:20210614T072000Z
LAST-MODIFIED:20221031T122101Z
SUMMARY:Dette vil energimeldingen bety for oss
DESCRIPTION:Hva betyr regjeringens energimelding for regionen, og hvilke konsekvenser får veilederen for havvind for satsingen som skjer på havvind i fylket? Frank Emil Moen fra Energy Innovation og Norwegian Offshore Wind Cluster og Ulf Rosenberg fra Energihovedstaden er gjester i dagens sending.
X-ALT-DESC:Hva betyr regjeringens energimelding for regionen, og hvilke konsekvenser f&#229;r veilederen for havvind for satsingen som skjer p&#229; havvind i fylket? Frank Emil Moen fra Energy Innovation og Norwegian Offshore Wind Cluster og Ulf Rosenberg fra Energihovedstaden er gjester i dagens sending.
LOCATION:Facebook Live
END:VEVENT


END:VCALENDAR



