
BEGIN:VCALENDAR
VERSION:2.0
PRODID:-//MarkedsPartner AS//Umbraco CMS//NO
TIMEZONE-ID:Europe/Oslo
X-WR-TIMEZONE:Europe/Oslo


BEGIN:VEVENT
UID:9de8120b71ef41328de047a776ef217f
URL:https://umbraco.naeringsforeningen.no/moeter/arkiv/tv-sending-140521/
ORGANIZER;CN=Ola Normann:MAILTO:ola.normann@markedspartner.no
DTSTAMP:20210514T070000Z
DTSTART:20210514T070000Z
DTEND:20210514T072000Z
LAST-MODIFIED:20221031T121654Z
SUMMARY:Korona og idrettslivet
DESCRIPTION:Idrettslivet i Norge har vært sterkt rammet av koronapandemien, det får også store økonomiske konsekvenser for næringslivet. Gjert Smith jr fra Rogaland idrettskrets er med oss i sendingen. I tillegg kommer Egil Østenstad for å snakke om hvordan  pandemien har påvirket den store jentesatsingen i Viking FK.
X-ALT-DESC:Idrettslivet i Norge har v&#230;rt sterkt rammet av koronapandemien, det f&#229;r ogs&#229; store &#248;konomiske konsekvenser for n&#230;ringslivet. Gjert Smith jr fra Rogaland idrettskrets er med oss i sendingen. I tillegg kommer Egil &#216;stenstad for &#229; snakke om hvordan  pandemien har p&#229;virket den store jentesatsingen i Viking FK.
LOCATION:Facebook Live
END:VEVENT


END:VCALENDAR



