
BEGIN:VCALENDAR
VERSION:2.0
PRODID:-//MarkedsPartner AS//Umbraco CMS//NO
TIMEZONE-ID:Europe/Oslo
X-WR-TIMEZONE:Europe/Oslo


BEGIN:VEVENT
UID:4e5d4335a9854ea0a9dccdf4133c8ee7
URL:https://umbraco.naeringsforeningen.no/moeter/arkiv/tv-sending-140421/
ORGANIZER;CN=Ola Normann:MAILTO:ola.normann@markedspartner.no
DTSTAMP:20210414T070000Z
DTSTART:20210414T070000Z
DTEND:20210414T072000Z
LAST-MODIFIED:20221031T121129Z
SUMMARY:27 millioner kroner til næringslivet
DESCRIPTION:Nå drysses 27 millioner kroner over næringslivet i Rogaland til bedriftintern opplæring! Hvor søker du, hva er kriteriene og tidfristen? Alt dette får du vite av Mette Fossan, næringssjef i fylkeskommunen, som kommer i studio. I tillegg stiller Eirik Bugge Simonsen fra Randaberg Industries. De har fått midler før og forteller om sine gode erfaringer med ordningen.
X-ALT-DESC:N&#229; drysses 27 millioner kroner over n&#230;ringslivet i Rogaland til bedriftintern oppl&#230;ring! Hvor s&#248;ker du, hva er kriteriene og tidfristen? Alt dette f&#229;r du vite av Mette Fossan, n&#230;ringssjef i fylkeskommunen, som kommer i studio. I tillegg stiller Eirik Bugge Simonsen fra Randaberg Industries. De har f&#229;tt midler f&#248;r og forteller om sine gode erfaringer med ordningen.
LOCATION:Facebook Live
END:VEVENT


END:VCALENDAR



