
BEGIN:VCALENDAR
VERSION:2.0
PRODID:-//MarkedsPartner AS//Umbraco CMS//NO
TIMEZONE-ID:Europe/Oslo
X-WR-TIMEZONE:Europe/Oslo


BEGIN:VEVENT
UID:8516b63bcadb4affbe5b478ca3c6ae56
URL:https://umbraco.naeringsforeningen.no/moeter/arkiv/tv-sending-140122/
ORGANIZER;CN=Ola Normann:MAILTO:ola.normann@markedspartner.no
DTSTAMP:20220114T080000Z
DTSTART:20220114T080000Z
DTEND:20220114T082000Z
LAST-MODIFIED:20221031T123126Z
SUMMARY:TV: Go´morgen næringslivet
DESCRIPTION:Tidligere olje-og energiminister Tina Bru er vår gjest i dagens sending. Harald Minge kommenterer regjeringens pressekonferanse torsdag kveld, og Knud med D rapporterer fra hjemmekontoret. Programledere er  Elianne Strøm Topstad og Ståle Frafjord.
X-ALT-DESC:Tidligere olje-og energiminister Tina Bru er v&#229;r gjest i dagens sending. Harald Minge kommenterer regjeringens pressekonferanse torsdag kveld, og Knud med D rapporterer fra hjemmekontoret. Programledere er  Elianne Str&#248;m Topstad og St&#229;le Frafjord.
LOCATION:Facebook Live/Linkedin Live
END:VEVENT


END:VCALENDAR



