
BEGIN:VCALENDAR
VERSION:2.0
PRODID:-//MarkedsPartner AS//Umbraco CMS//NO
TIMEZONE-ID:Europe/Oslo
X-WR-TIMEZONE:Europe/Oslo


BEGIN:VEVENT
UID:f7504e74cd22492b9c43c5ef1e64becd
URL:https://umbraco.naeringsforeningen.no/moeter/arkiv/tv-sending-14-mai/
ORGANIZER;CN=Ola Normann:MAILTO:ola.normann@markedspartner.no
DTSTAMP:20200514T070000Z
DTSTART:20200514T070000Z
DTEND:20200514T073000Z
LAST-MODIFIED:20221031T121005Z
SUMMARY:TV: Sending 14. mai
DESCRIPTION:Søndag er det 17. mai, men feiringen blir veldig annerledes enn vi er vant til. Vi får besøk av 17. mai-komitéens leder Ann Sesilie Tekfeldt.
X-ALT-DESC:S&#248;ndag er det 17. mai, men feiringen blir veldig annerledes enn vi er vant til. Vi f&#229;r bes&#248;k av 17. mai-komit&#233;ens leder Ann Sesilie Tekfeldt.
LOCATION:Facebook Live
END:VEVENT


END:VCALENDAR



