
BEGIN:VCALENDAR
VERSION:2.0
PRODID:-//MarkedsPartner AS//Umbraco CMS//NO
TIMEZONE-ID:Europe/Oslo
X-WR-TIMEZONE:Europe/Oslo


BEGIN:VEVENT
UID:cb0d5cd808454bdba9f508a0ed1407de
URL:https://umbraco.naeringsforeningen.no/moeter/arkiv/tv-sending-14-april/
ORGANIZER;CN=Ola Normann:MAILTO:ola.normann@markedspartner.no
DTSTAMP:20200414T070000Z
DTSTART:20200414T070000Z
DTEND:20200414T073000Z
LAST-MODIFIED:20221031T120451Z
SUMMARY:TV: Sending 14. april
DESCRIPTION:Ny tv-sending og tirsdag vår vi besøk av Øivind Ekeland, Stig Finnesand og Eivind Helland.
X-ALT-DESC:Ny tv-sending og tirsdag v&#229;r vi bes&#248;k av &#216;ivind Ekeland, Stig Finnesand og Eivind Helland.
LOCATION:Facebook Live
END:VEVENT


END:VCALENDAR



