
BEGIN:VCALENDAR
VERSION:2.0
PRODID:-//MarkedsPartner AS//Umbraco CMS//NO
TIMEZONE-ID:Europe/Oslo
X-WR-TIMEZONE:Europe/Oslo


BEGIN:VEVENT
UID:f0148161c1384b9dafb424aff5bfd826
URL:https://umbraco.naeringsforeningen.no/moeter/arkiv/tv-sending-131120/
ORGANIZER;CN=Ola Normann:MAILTO:ola.normann@markedspartner.no
DTSTAMP:20201113T080000Z
DTSTART:20201113T080000Z
DTEND:20201113T082000Z
LAST-MODIFIED:20221031T115246Z
SUMMARY:TV-sending: Hva om Elon Musk ringer?
DESCRIPTION:Hva gjør vi hvis Elon Musk ringer oss i morgen for å si at han vil etablere seg i regionen? Er vi klare til å ta imot han? Hver fredag skal det handle om Nye muligheter i Næringsforeningens TV og podkast. Tormod Andreassen og Harald Minge diskuterer næringspolitikk og tar imot gjester. I denne sendingen skal det handle om noe så vanskelig som omstilling. Gjest i studio er prorektor for innovasjon og samfunn ved UiS, Rune Dahl Fitjar. Han har klare meninger om temaet – basert på kunnskap og forskning.
X-ALT-DESC:Hva gj&#248;r vi hvis Elon Musk ringer oss i morgen for &#229; si at han vil etablere seg i regionen? Er vi klare til &#229; ta imot han? Hver fredag skal det handle om Nye muligheter i N&#230;ringsforeningens TV og podkast. Tormod Andreassen og Harald Minge diskuterer n&#230;ringspolitikk og tar imot gjester. I denne sendingen skal det handle om noe s&#229; vanskelig som omstilling. Gjest i studio er prorektor for innovasjon og samfunn ved UiS, Rune Dahl Fitjar. Han har klare meninger om temaet – basert p&#229; kunnskap og forskning.
LOCATION:Facebook Live
END:VEVENT


END:VCALENDAR



