
BEGIN:VCALENDAR
VERSION:2.0
PRODID:-//MarkedsPartner AS//Umbraco CMS//NO
TIMEZONE-ID:Europe/Oslo
X-WR-TIMEZONE:Europe/Oslo


BEGIN:VEVENT
UID:935f9294ac2840e38b2ceddab7351fe4
URL:https://umbraco.naeringsforeningen.no/moeter/arkiv/tv-sending-130421/
ORGANIZER;CN=Ola Normann:MAILTO:ola.normann@markedspartner.no
DTSTAMP:20210413T070000Z
DTSTART:20210413T070000Z
DTEND:20210413T072000Z
LAST-MODIFIED:20221031T121051Z
SUMMARY:INTERVJUET: Jonas Helmikstøl leder Easee-suksessen
DESCRIPTION:Han er ung, gründer og blir karakterisert som et ledertalent. Når dagens sending er over, skal han rett i et møte med finansministeren. Hvorfor – og mye mer – skal du få vite mer om i løpet av de neste 20 minuttene. Jonas Helmikstøl, daglig leder i Easee, er vår gjest i dagens sending.
X-ALT-DESC:Han er ung, gr&#252;nder og blir karakterisert som et ledertalent. N&#229;r dagens sending er over, skal han rett i et m&#248;te med finansministeren. Hvorfor – og mye mer – skal du f&#229; vite mer om i l&#248;pet av de neste 20 minuttene. Jonas Helmikst&#248;l, daglig leder i Easee, er v&#229;r gjest i dagens sending.
LOCATION:Facebook Live
END:VEVENT


END:VCALENDAR



