
BEGIN:VCALENDAR
VERSION:2.0
PRODID:-//MarkedsPartner AS//Umbraco CMS//NO
TIMEZONE-ID:Europe/Oslo
X-WR-TIMEZONE:Europe/Oslo


BEGIN:VEVENT
UID:2c6a0689e3a74224b00512e4cdedbdf2
URL:https://umbraco.naeringsforeningen.no/moeter/arkiv/tv-sending-130122/
ORGANIZER;CN=Ola Normann:MAILTO:ola.normann@markedspartner.no
DTSTAMP:20220113T080000Z
DTSTART:20220113T080000Z
DTEND:20220113T082000Z
LAST-MODIFIED:20221031T123116Z
SUMMARY:TV: Go´morgen næringslivet
DESCRIPTION:Helsesjef Runar Johannessen i Stavanger kommune er vår hovedgjest i dagens sending. Vi har også besøkt Harry Pepper dagen før regjeringens pressekonferanse, og vi får besøk av HR-direktør Helen Dreyer fra Halliburton. Og som vanlig tar vi for oss morgenens nyhetsbilde.
X-ALT-DESC:Helsesjef Runar Johannessen i Stavanger kommune er v&#229;r hovedgjest i dagens sending. Vi har ogs&#229; bes&#248;kt Harry Pepper dagen f&#248;r regjeringens pressekonferanse, og vi f&#229;r bes&#248;k av HR-direkt&#248;r Helen Dreyer fra Halliburton. Og som vanlig tar vi for oss morgenens nyhetsbilde.
LOCATION:Facebook Live/Linkedin Live
END:VEVENT


END:VCALENDAR



