
BEGIN:VCALENDAR
VERSION:2.0
PRODID:-//MarkedsPartner AS//Umbraco CMS//NO
TIMEZONE-ID:Europe/Oslo
X-WR-TIMEZONE:Europe/Oslo


BEGIN:VEVENT
UID:9793aed1e1494652b60562b5aa3e2836
URL:https://umbraco.naeringsforeningen.no/moeter/arkiv/tv-sending-13-mai/
ORGANIZER;CN=Ola Normann:MAILTO:ola.normann@markedspartner.no
DTSTAMP:20200513T070000Z
DTSTART:20200513T070000Z
DTEND:20200513T073000Z
LAST-MODIFIED:20221031T120957Z
SUMMARY:TV: Sending 13. mai
DESCRIPTION:Hvordan er bil- og båtsalget denne våre? Vi får besøk av Jan T. Oftedal fra Toyota Sørvest og Simon Johansen fra Tveit AS i onsdagens sending.
X-ALT-DESC:Hvordan er bil- og b&#229;tsalget denne v&#229;re? Vi f&#229;r bes&#248;k av Jan T. Oftedal fra Toyota S&#248;rvest og Simon Johansen fra Tveit AS i onsdagens sending.
LOCATION:Facebook Live
END:VEVENT


END:VCALENDAR



