
BEGIN:VCALENDAR
VERSION:2.0
PRODID:-//MarkedsPartner AS//Umbraco CMS//NO
TIMEZONE-ID:Europe/Oslo
X-WR-TIMEZONE:Europe/Oslo


BEGIN:VEVENT
UID:cab95d82e0d84e7c854295b6beea2da5
URL:https://umbraco.naeringsforeningen.no/moeter/arkiv/tv-sending-121121/
ORGANIZER;CN=Ola Normann:MAILTO:ola.normann@markedspartner.no
DTSTAMP:20211112T080000Z
DTSTART:20211112T080000Z
DTEND:20211112T083000Z
LAST-MODIFIED:20221031T123018Z
SUMMARY:Næringsforeningen TV: Helgemagasin
DESCRIPTION:Vi presenter ytterligere to av bedriftene som er nominert som Årets bedrift. Børge Hetland fra Navtor og Inge Brigt Aarbakke fra Aarbakke kommer i studio. Vi har besøkt Madla Amfi og senterleder Anette Øfsti Worum og tar pulsen på handelen, og som vanlig ser Harald Minge og Tormod Andreassen tilbake på uka som gikk.
X-ALT-DESC:Vi presenter ytterligere to av bedriftene som er nominert som &#197;rets bedrift. B&#248;rge Hetland fra Navtor og Inge Brigt Aarbakke fra Aarbakke kommer i studio. Vi har bes&#248;kt Madla Amfi og senterleder Anette &#216;fsti Worum og tar pulsen p&#229; handelen, og som vanlig ser Harald Minge og Tormod Andreassen tilbake p&#229; uka som gikk.
LOCATION:Facebook Live
END:VEVENT


END:VCALENDAR



