
BEGIN:VCALENDAR
VERSION:2.0
PRODID:-//MarkedsPartner AS//Umbraco CMS//NO
TIMEZONE-ID:Europe/Oslo
X-WR-TIMEZONE:Europe/Oslo


BEGIN:VEVENT
UID:865ebd201bdf4641aec86d93e02ac041
URL:https://umbraco.naeringsforeningen.no/moeter/arkiv/tv-sending-121120/
ORGANIZER;CN=Ola Normann:MAILTO:ola.normann@markedspartner.no
DTSTAMP:20201112T080000Z
DTSTART:20201112T080000Z
DTEND:20201112T082000Z
LAST-MODIFIED:20221031T115240Z
SUMMARY:TV-sending: Mineraler for mange milliarder
DESCRIPTION:Det ligger mineralverdier for flere hundre milliarder kroner under jorden i Dalane. Hvordan skal man forvalte det som kan bli en nytt industrieventyr i Rogaland? Vi har vært på besøk når geologer finner mineralforekomster som kan vise seg å være større enn først antatt.
X-ALT-DESC:Det ligger mineralverdier for flere hundre milliarder kroner under jorden i Dalane. Hvordan skal man forvalte det som kan bli en nytt industrieventyr i Rogaland? Vi har v&#230;rt p&#229; bes&#248;k n&#229;r geologer finner mineralforekomster som kan vise seg &#229; v&#230;re st&#248;rre enn f&#248;rst antatt.
LOCATION:Facebook Live
END:VEVENT


END:VCALENDAR



