
BEGIN:VCALENDAR
VERSION:2.0
PRODID:-//MarkedsPartner AS//Umbraco CMS//NO
TIMEZONE-ID:Europe/Oslo
X-WR-TIMEZONE:Europe/Oslo


BEGIN:VEVENT
UID:acbe040237b34000b88c32908d66add3
URL:https://umbraco.naeringsforeningen.no/moeter/arkiv/tv-sending-121021/
ORGANIZER;CN=Ola Normann:MAILTO:ola.normann@markedspartner.no
DTSTAMP:20211012T120000Z
DTSTART:20211012T120000Z
DTEND:20211012T123000Z
LAST-MODIFIED:20221031T122618Z
SUMMARY:Næringsforeningen TV: Vi kommenterer statsbudsjettet
DESCRIPTION:I dag legges statsbudsjettet fram. Klokken 14.00 kommer sjeføkonom Kyrre Knudsen i SpareBank 1 SR-Bank i studio, og sammen med energirådgiver Ulf Rosenberg og næringspolitisk leder i Næringsforeningen, Tormod Andreassen, kommenterer de forslagene med utgangspunkt i vår region.
X-ALT-DESC:I dag legges statsbudsjettet fram. Klokken 14.00 kommer sjef&#248;konom Kyrre Knudsen i SpareBank 1 SR-Bank i studio, og sammen med energir&#229;dgiver Ulf Rosenberg og n&#230;ringspolitisk leder i N&#230;ringsforeningen, Tormod Andreassen, kommenterer de forslagene med utgangspunkt i v&#229;r region.
LOCATION:Facebook Live
END:VEVENT


END:VCALENDAR



