
BEGIN:VCALENDAR
VERSION:2.0
PRODID:-//MarkedsPartner AS//Umbraco CMS//NO
TIMEZONE-ID:Europe/Oslo
X-WR-TIMEZONE:Europe/Oslo


BEGIN:VEVENT
UID:c84c9d7e60514505894b14dc033fc4ee
URL:https://umbraco.naeringsforeningen.no/moeter/arkiv/tv-sending-120521/
ORGANIZER;CN=Ola Normann:MAILTO:ola.normann@markedspartner.no
DTSTAMP:20210512T070000Z
DTSTART:20210512T070000Z
DTEND:20210512T072000Z
LAST-MODIFIED:20221031T121641Z
SUMMARY:Gjør deg klar for «Et helt annet sted»
DESCRIPTION:Pandemien har også digitalisert kulturlivet! Strømmefestivalen «Et Helt Annet Sted» skal sendes fra Stavanger 13.−16. mai, og blant artistene er Morten Abel, Hilde Selvikvåg og en rekke andre lokale musikere. I studio til oss kommer Espen Håland, musikkansvarlig på Tou, Gard Mortensen, daglig leder i Vierlive og Hilde Selvikvåg.
X-ALT-DESC:Pandemien har ogs&#229; digitalisert kulturlivet! Str&#248;mmefestivalen &#171;Et Helt Annet Sted&#187; skal sendes fra Stavanger 13.−16. mai, og blant artistene er Morten Abel, Hilde Selvikv&#229;g og en rekke andre lokale musikere. I studio til oss kommer Espen H&#229;land, musikkansvarlig p&#229; Tou, Gard Mortensen, daglig leder i Vierlive og Hilde Selvikv&#229;g.
LOCATION:Facebook Live
END:VEVENT


END:VCALENDAR



