
BEGIN:VCALENDAR
VERSION:2.0
PRODID:-//MarkedsPartner AS//Umbraco CMS//NO
TIMEZONE-ID:Europe/Oslo
X-WR-TIMEZONE:Europe/Oslo


BEGIN:VEVENT
UID:3dca4444e63e4f6cb65ef56583c2a1be
URL:https://umbraco.naeringsforeningen.no/moeter/arkiv/tv-sending-120421/
ORGANIZER;CN=Ola Normann:MAILTO:ola.normann@markedspartner.no
DTSTAMP:20210412T070000Z
DTSTART:20210412T070000Z
DTEND:20210412T072000Z
LAST-MODIFIED:20221031T121045Z
SUMMARY:Hva skjer med boligmarkedet?
DESCRIPTION:Etter rekordomsetning i 2020 ligger nå 1650 boliger ute for salg på Nord-Jæren. Nær en tredjedel er nybygg, viser tall fra finn.no. Hvordan er markedet og prisutviklingen, og hvordan påvirker koronapandemien salget av fritidseiendommer? Vi får besøk av Thor Hjertenes, regionleder for DNB Eiendom Stavanger og Laila Neverdahl, administrerende direktør i EiendomsMegler 1 SR-Eiendom.
X-ALT-DESC:Etter rekordomsetning i 2020 ligger n&#229; 1650 boliger ute for salg p&#229; Nord-J&#230;ren. N&#230;r en tredjedel er nybygg, viser tall fra finn.no. Hvordan er markedet og prisutviklingen, og hvordan p&#229;virker koronapandemien salget av fritidseiendommer? Vi f&#229;r bes&#248;k av Thor Hjertenes, regionleder for DNB Eiendom Stavanger og Laila Neverdahl, administrerende direkt&#248;r i EiendomsMegler 1 SR-Eiendom.
LOCATION:Facebook Live
END:VEVENT


END:VCALENDAR



