
BEGIN:VCALENDAR
VERSION:2.0
PRODID:-//MarkedsPartner AS//Umbraco CMS//NO
TIMEZONE-ID:Europe/Oslo
X-WR-TIMEZONE:Europe/Oslo


BEGIN:VEVENT
UID:0016457bcf2243ab930d411df483f7ee
URL:https://umbraco.naeringsforeningen.no/moeter/arkiv/tv-sending-120122/
ORGANIZER;CN=Ola Normann:MAILTO:ola.normann@markedspartner.no
DTSTAMP:20220112T080000Z
DTSTART:20220112T080000Z
DTEND:20220112T082000Z
LAST-MODIFIED:20221031T123108Z
SUMMARY:TV: Go´morgen næringslivet
DESCRIPTION:Equinor-direktør og plassjef i Stavanger, Jez Averty, er gjest i dagens frokostsending fra Næringsforeningen. Vi får også besøk av Ulf Rosenberg, som blant annet er prosjektleder for Energihovedstaden. Og som vanlig tar vi pulsen på morgenens nyhetsbilde. Programledere er Elianne Strøm Topstad og Ståle Frafjord.
X-ALT-DESC:Equinor-direkt&#248;r og plassjef i Stavanger, Jez Averty, er gjest i dagens frokostsending fra N&#230;ringsforeningen. Vi f&#229;r ogs&#229; bes&#248;k av Ulf Rosenberg, som blant annet er prosjektleder for Energihovedstaden. Og som vanlig tar vi pulsen p&#229; morgenens nyhetsbilde. Programledere er Elianne Str&#248;m Topstad og St&#229;le Frafjord.
LOCATION:Facebook Live/Linkedin Live
END:VEVENT


END:VCALENDAR



