
BEGIN:VCALENDAR
VERSION:2.0
PRODID:-//MarkedsPartner AS//Umbraco CMS//NO
TIMEZONE-ID:Europe/Oslo
X-WR-TIMEZONE:Europe/Oslo


BEGIN:VEVENT
UID:3f9e0d8f61df4d7ebabbf6ef101795ec
URL:https://umbraco.naeringsforeningen.no/moeter/arkiv/tv-sending-12-mai/
ORGANIZER;CN=Ola Normann:MAILTO:ola.normann@markedspartner.no
DTSTAMP:20200512T070000Z
DTSTART:20200512T070000Z
DTEND:20200512T073000Z
LAST-MODIFIED:20221031T120954Z
SUMMARY:TV: Sending 12. mai
DESCRIPTION:Tirsdag får vi besøk av Tore Gjedebo, smittervernoverlege Lars Kåre Kleppe og Therese Log Bergjord i studio.
X-ALT-DESC:Tirsdag f&#229;r vi bes&#248;k av Tore Gjedebo, smittervernoverlege Lars K&#229;re Kleppe og Therese Log Bergjord i studio.
LOCATION:Facebook Live
END:VEVENT


END:VCALENDAR



