
BEGIN:VCALENDAR
VERSION:2.0
PRODID:-//MarkedsPartner AS//Umbraco CMS//NO
TIMEZONE-ID:Europe/Oslo
X-WR-TIMEZONE:Europe/Oslo


BEGIN:VEVENT
UID:fa8a665935b440b18b32c421a5bd7c5a
URL:https://umbraco.naeringsforeningen.no/moeter/arkiv/tv-sending-12-juni/
ORGANIZER;CN=Ola Normann:MAILTO:ola.normann@markedspartner.no
DTSTAMP:20200612T070000Z
DTSTART:20200612T070000Z
DTEND:20200612T073000Z
LAST-MODIFIED:20221031T121405Z
SUMMARY:TV: Sending 12. juni
DESCRIPTION:Nye muligheter og hva skal vi leve av framover? Christian Rangen er kjent for å utfordre både regionen og bedrifter - og han kommer på besøk i studio.
X-ALT-DESC:Nye muligheter og hva skal vi leve av framover? Christian Rangen er kjent for &#229; utfordre b&#229;de regionen og bedrifter - og han kommer p&#229; bes&#248;k i studio.
LOCATION:Facebook Live
END:VEVENT


END:VCALENDAR



