
BEGIN:VCALENDAR
VERSION:2.0
PRODID:-//MarkedsPartner AS//Umbraco CMS//NO
TIMEZONE-ID:Europe/Oslo
X-WR-TIMEZONE:Europe/Oslo


BEGIN:VEVENT
UID:f60326996b784ad881f79836141745dd
URL:https://umbraco.naeringsforeningen.no/moeter/arkiv/tv-sending-110621/
ORGANIZER;CN=Ola Normann:MAILTO:ola.normann@markedspartner.no
DTSTAMP:20210611T070000Z
DTSTART:20210611T070000Z
DTEND:20210611T072000Z
LAST-MODIFIED:20221031T122057Z
SUMMARY:Aarbakke ser nye muligheter
DESCRIPTION:I fredagens sending møter du en av regionens viktigste industribyggere. Inge Brigt Aarbakke startet i farens smie som tiåring. Så kjøpte han sin egen dreiemaskin og dermed var det gjort. For Aarbakke handler det om kontinuerlig forbedring, sterk bedriftskultur og et over gjennomsnittet konkurranseinstinkt. Nå sikter de seg inn mot nye muligheter. I studio som vanlig på fredager: Harald Minge og Tormod Andreassen.
X-ALT-DESC:I fredagens sending m&#248;ter du en av regionens viktigste industribyggere. Inge Brigt Aarbakke startet i farens smie som ti&#229;ring. S&#229; kj&#248;pte han sin egen dreiemaskin og dermed var det gjort. For Aarbakke handler det om kontinuerlig forbedring, sterk bedriftskultur og et over gjennomsnittet konkurranseinstinkt. N&#229; sikter de seg inn mot nye muligheter. I studio som vanlig p&#229; fredager: Harald Minge og Tormod Andreassen.
LOCATION:Facebook Live
END:VEVENT


END:VCALENDAR



