
BEGIN:VCALENDAR
VERSION:2.0
PRODID:-//MarkedsPartner AS//Umbraco CMS//NO
TIMEZONE-ID:Europe/Oslo
X-WR-TIMEZONE:Europe/Oslo


BEGIN:VEVENT
UID:7e7bff972a7048b78cb1e9faa79b191a
URL:https://umbraco.naeringsforeningen.no/moeter/arkiv/tv-sending-110530/
ORGANIZER;CN=Ola Normann:MAILTO:ola.normann@markedspartner.no
DTSTAMP:20210511T070000Z
DTSTART:20210511T070000Z
DTEND:20210511T072000Z
LAST-MODIFIED:20221031T121632Z
SUMMARY:Slik kan Rogaland nå klimamålene: Ny rapport lanseres
DESCRIPTION:Vi må ta drastiske grep for å nå Norges mål om halvering av utslippene innen 2030, samt nå de ambisiøse målene som våre regionale politikere har satt Nå lanseres den første klimarapporten for hele Rogaland, og Næringsforeningen Haugalandet og Næringsforeningen i Stavanger-regionen inviterer til debatt! Vi har med oss Esben Otterlei og Eimund Nygaard fra Lyse og Olav Linga fra Haugaland Kraft. I tillegg blir det paneldebatt med Tine Osmundsen fra Karmsund Havn, Kåre Bjarte Bjelland fra Eramet, Wenche Skorge fra Naturvernforbundet, Grethe Skundberg fra Kolumbus og Marit Epletveit fra Rogaland Bondelag.
X-ALT-DESC:Vi m&#229; ta drastiske grep for &#229; n&#229; Norges m&#229;l om halvering av utslippene innen 2030, samt n&#229; de ambisi&#248;se m&#229;lene som v&#229;re regionale politikere har satt N&#229; lanseres den f&#248;rste klimarapporten for hele Rogaland, og N&#230;ringsforeningen Haugalandet og N&#230;ringsforeningen i Stavanger-regionen inviterer til debatt! Vi har med oss Esben Otterlei og Eimund Nygaard fra Lyse og Olav Linga fra Haugaland Kraft. I tillegg blir det paneldebatt med Tine Osmundsen fra Karmsund Havn, K&#229;re Bjarte Bjelland fra Eramet, Wenche Skorge fra Naturvernforbundet, Grethe Skundberg fra Kolumbus og Marit Epletveit fra Rogaland Bondelag.
LOCATION:Facebook Live
END:VEVENT


END:VCALENDAR



