
BEGIN:VCALENDAR
VERSION:2.0
PRODID:-//MarkedsPartner AS//Umbraco CMS//NO
TIMEZONE-ID:Europe/Oslo
X-WR-TIMEZONE:Europe/Oslo


BEGIN:VEVENT
UID:055665df76e14dd6a40a87ccb49d88d9
URL:https://umbraco.naeringsforeningen.no/moeter/arkiv/tv-sending-110122/
ORGANIZER;CN=Ola Normann:MAILTO:ola.normann@markedspartner.no
DTSTAMP:20220111T080000Z
DTSTART:20220111T080000Z
DTEND:20220111T082000Z
LAST-MODIFIED:20221031T123419Z
SUMMARY:TV: Go´morgen næringslivet
DESCRIPTION:Sesong 2 av Lykkeland har begeistret mange denne vinteren. I dagens sending får vi besøk av Malene Wadel som spiller bedehusjenta Toril Torstensen i NRK-serien. Vi har også med oss rektor Ingunn Folgerø ved Bryne videregående skole, mens Knud med D – alias Rune Bjerga – leverer en rykende fersk rapport fra tilværelsen på hjemmekontoret.
X-ALT-DESC:Sesong 2 av Lykkeland har begeistret mange denne vinteren. I dagens sending f&#229;r vi bes&#248;k av Malene Wadel som spiller bedehusjenta Toril Torstensen i NRK-serien. Vi har ogs&#229; med oss rektor Ingunn Folger&#248; ved Bryne videreg&#229;ende skole, mens Knud med D – alias Rune Bjerga – leverer en rykende fersk rapport fra tilv&#230;relsen p&#229; hjemmekontoret.
LOCATION:Facebook Live/Linkedin Live
END:VEVENT


END:VCALENDAR



