
BEGIN:VCALENDAR
VERSION:2.0
PRODID:-//MarkedsPartner AS//Umbraco CMS//NO
TIMEZONE-ID:Europe/Oslo
X-WR-TIMEZONE:Europe/Oslo


BEGIN:VEVENT
UID:5ae2aaaccad54032afa7edfa7cb07f33
URL:https://umbraco.naeringsforeningen.no/moeter/arkiv/tv-sending-101221/
ORGANIZER;CN=Ola Normann:MAILTO:ola.normann@markedspartner.no
DTSTAMP:20211210T080000Z
DTSTART:20211210T080000Z
DTEND:20211210T083000Z
LAST-MODIFIED:20221031T123334Z
SUMMARY:Næringsforeningen TV: Helgemagasin
DESCRIPTION:Smittetallene stiger, nye restriksjoner er innført, folk er tilbake på hjemmekontor. Koronapandemien var likevel ikke på hell. Smittevernoverlege ved SUS, Lars Kåre Selland Kleppe, kommer i studio og forklarer oss hva som skjer. Det finnes likevel også mye å glede seg over. Økonomisk Rapport 2021 viser at de fleste bransjer i Stavanger-regionen har klart seg ganske bra. Det Norske Måltid går av stabelen i begynnelsen av februar, Kristin Austigard forteller om forberedelsene. Og vinneren av bedriftskonferansen i Pepperkakelandsbyen er klar. Vi har vært med på prisoverrekkelsen. Og som alltid blir det tanker om uka som gikk, med Harald Minge og Tormod Andreassen.
X-ALT-DESC:Smittetallene stiger, nye restriksjoner er innf&#248;rt, folk er tilbake p&#229; hjemmekontor. Koronapandemien var likevel ikke p&#229; hell. Smittevernoverlege ved SUS, Lars K&#229;re Selland Kleppe, kommer i studio og forklarer oss hva som skjer. Det finnes likevel ogs&#229; mye &#229; glede seg over. &#216;konomisk Rapport 2021 viser at de fleste bransjer i Stavanger-regionen har klart seg ganske bra. Det Norske M&#229;ltid g&#229;r av stabelen i begynnelsen av februar, Kristin Austigard forteller om forberedelsene. Og vinneren av bedriftskonferansen i Pepperkakelandsbyen er klar. Vi har v&#230;rt med p&#229; prisoverrekkelsen. Og som alltid blir det tanker om uka som gikk, med Harald Minge og Tormod Andreassen.
LOCATION:Facebook Live
END:VEVENT


END:VCALENDAR



