
BEGIN:VCALENDAR
VERSION:2.0
PRODID:-//MarkedsPartner AS//Umbraco CMS//NO
TIMEZONE-ID:Europe/Oslo
X-WR-TIMEZONE:Europe/Oslo


BEGIN:VEVENT
UID:39d4edfcfadf451a98d1e4c10237c983
URL:https://umbraco.naeringsforeningen.no/moeter/arkiv/tv-sending-101120/
ORGANIZER;CN=Ola Normann:MAILTO:ola.normann@markedspartner.no
DTSTAMP:20201110T080000Z
DTSTART:20201110T080000Z
DTEND:20201110T082000Z
LAST-MODIFIED:20221031T115219Z
SUMMARY:TV-sending: Nye lokale koronaregler
DESCRIPTION:Vi snakker med Stavangers ordfører Kari Nessa Nordtun og smittevernlege Lars Kåre Kleppe om de nye lokale koronareglene, og Christian Waage fra Lura Turistheim – som er en av dem som skal forholde seg til hva som nå er lov og ikke lov.
X-ALT-DESC:Vi snakker med Stavangers ordf&#248;rer Kari Nessa Nordtun og smittevernlege Lars K&#229;re Kleppe om de nye lokale koronareglene, og Christian Waage fra Lura Turistheim – som er en av dem som skal forholde seg til hva som n&#229; er lov og ikke lov.
LOCATION:Facebook Live
END:VEVENT


END:VCALENDAR



