
BEGIN:VCALENDAR
VERSION:2.0
PRODID:-//MarkedsPartner AS//Umbraco CMS//NO
TIMEZONE-ID:Europe/Oslo
X-WR-TIMEZONE:Europe/Oslo


BEGIN:VEVENT
UID:3265de7aea84457084b5f344a390a209
URL:https://umbraco.naeringsforeningen.no/moeter/arkiv/tv-sending-101120-1/
ORGANIZER;CN=Ola Normann:MAILTO:ola.normann@markedspartner.no
DTSTAMP:20201111T080000Z
DTSTART:20201111T080000Z
DTEND:20201111T082000Z
LAST-MODIFIED:20221031T115222Z
SUMMARY:TV-sending: Korona og utfordringene i kulturlivet
DESCRIPTION:Smittevernreglene har vært spesielt utfordrende for kulturlivet og kulturarrangører. Hva skjer nå som tiltakene skjerpes? Vi får besøk av Pål Mangor Kvammen fra Stavangeren, Jan Zahl fra Stavanger Aftenblad og Mariann Bjørnelv fra Folken.
X-ALT-DESC:Smittevernreglene har v&#230;rt spesielt utfordrende for kulturlivet og kulturarrang&#248;rer. Hva skjer n&#229; som tiltakene skjerpes? Vi f&#229;r bes&#248;k av P&#229;l Mangor Kvammen fra Stavangeren, Jan Zahl fra Stavanger Aftenblad og Mariann Bj&#248;rnelv fra Folken.
LOCATION:Facebook Live
END:VEVENT


END:VCALENDAR



