
BEGIN:VCALENDAR
VERSION:2.0
PRODID:-//MarkedsPartner AS//Umbraco CMS//NO
TIMEZONE-ID:Europe/Oslo
X-WR-TIMEZONE:Europe/Oslo


BEGIN:VEVENT
UID:db8caebd75f44f83a1edf967228ba888
URL:https://umbraco.naeringsforeningen.no/moeter/arkiv/tv-sending-100621/
ORGANIZER;CN=Ola Normann:MAILTO:ola.normann@markedspartner.no
DTSTAMP:20210610T070000Z
DTSTART:20210610T070000Z
DTEND:20210610T072000Z
LAST-MODIFIED:20221031T122054Z
SUMMARY:Mens vi venter på energimeldingen
DESCRIPTION:Nå kommer energimeldingen. Bransjen, Stavanger-regionen og store deler av norsk industri venter i spenning. Vi har med oss Terje Halleland, fraksjonsleder for Fremskrittspartiet i energi og miljøkomiteen på Stortinget og Ulf Rosenberg, prosjektleder for Energihovedstaden.
X-ALT-DESC:N&#229; kommer energimeldingen. Bransjen, Stavanger-regionen og store deler av norsk industri venter i spenning. Vi har med oss Terje Halleland, fraksjonsleder for Fremskrittspartiet i energi og milj&#248;komiteen p&#229; Stortinget og Ulf Rosenberg, prosjektleder for Energihovedstaden.
LOCATION:Facebook Live
END:VEVENT


END:VCALENDAR



