
BEGIN:VCALENDAR
VERSION:2.0
PRODID:-//MarkedsPartner AS//Umbraco CMS//NO
TIMEZONE-ID:Europe/Oslo
X-WR-TIMEZONE:Europe/Oslo


BEGIN:VEVENT
UID:b067d110c552470b89f3b53546d0bdce
URL:https://umbraco.naeringsforeningen.no/moeter/arkiv/tv-sending-100530/
ORGANIZER;CN=Ola Normann:MAILTO:ola.normann@markedspartner.no
DTSTAMP:20210510T070000Z
DTSTART:20210510T070000Z
DTEND:20210510T072000Z
LAST-MODIFIED:20221031T121626Z
SUMMARY:Nå ser vi lyset i enden av tunnelen
DESCRIPTION:En god start på uken! Endelig ser store deler av næringslivet lyset i enden av tunnellen! Sjeføkonom Kyrre M. Knudsen gir deg full oversikt over SpareBank 1 SR-banks helt ferske konjunkturbarometer!
X-ALT-DESC:En god start p&#229; uken! Endelig ser store deler av n&#230;ringslivet lyset i enden av tunnellen! Sjef&#248;konom Kyrre M. Knudsen gir deg full oversikt over SpareBank 1 SR-banks helt ferske konjunkturbarometer!
LOCATION:Facebook Live
END:VEVENT


END:VCALENDAR



