
BEGIN:VCALENDAR
VERSION:2.0
PRODID:-//MarkedsPartner AS//Umbraco CMS//NO
TIMEZONE-ID:Europe/Oslo
X-WR-TIMEZONE:Europe/Oslo


BEGIN:VEVENT
UID:2156da2d80b24fd5916dcfcc425d3ab7
URL:https://umbraco.naeringsforeningen.no/moeter/arkiv/tv-sending-100122/
ORGANIZER;CN=Ola Normann:MAILTO:ola.normann@markedspartner.no
DTSTAMP:20220110T080000Z
DTSTART:20220110T080000Z
DTEND:20220110T082000Z
LAST-MODIFIED:20221031T123416Z
SUMMARY:TV: Go´morgen næringslivet
DESCRIPTION:Store deler av ordførerperioden til Kari Nessa Nordtun i Stavanger har vært preget av korona. Hvordan har det vært? Hun er hovedgjest i dagens sending. I tillegg kommer Tormod Andreassen fra Næringsforeningen og snakker om forventninger til regjeringens varslede endringer i tiltakene. Så tar vi som vanlig nyhetsrunden.
X-ALT-DESC:Store deler av ordf&#248;rerperioden til Kari Nessa Nordtun i Stavanger har v&#230;rt preget av korona. Hvordan har det v&#230;rt? Hun er hovedgjest i dagens sending. I tillegg kommer Tormod Andreassen fra N&#230;ringsforeningen og snakker om forventninger til regjeringens varslede endringer i tiltakene. S&#229; tar vi som vanlig nyhetsrunden.
LOCATION:Facebook Live/Linkedin Live
END:VEVENT


END:VCALENDAR



